BEGIN:VCALENDAR
VERSION:2.0
PRODID:-//Witham Hub - ECPv6.15.20//NONSGML v1.0//EN
CALSCALE:GREGORIAN
METHOD:PUBLISH
X-ORIGINAL-URL:https://www.withamhub.co.uk
X-WR-CALDESC:Events for Witham Hub
REFRESH-INTERVAL;VALUE=DURATION:PT1H
X-Robots-Tag:noindex
X-PUBLISHED-TTL:PT1H
BEGIN:VTIMEZONE
TZID:Europe/London
BEGIN:DAYLIGHT
TZOFFSETFROM:+0000
TZOFFSETTO:+0100
TZNAME:BST
DTSTART:20250330T010000
END:DAYLIGHT
BEGIN:STANDARD
TZOFFSETFROM:+0100
TZOFFSETTO:+0000
TZNAME:GMT
DTSTART:20251026T010000
END:STANDARD
BEGIN:DAYLIGHT
TZOFFSETFROM:+0000
TZOFFSETTO:+0100
TZNAME:BST
DTSTART:20260329T010000
END:DAYLIGHT
BEGIN:STANDARD
TZOFFSETFROM:+0100
TZOFFSETTO:+0000
TZNAME:GMT
DTSTART:20261025T010000
END:STANDARD
BEGIN:DAYLIGHT
TZOFFSETFROM:+0000
TZOFFSETTO:+0100
TZNAME:BST
DTSTART:20270328T010000
END:DAYLIGHT
BEGIN:STANDARD
TZOFFSETFROM:+0100
TZOFFSETTO:+0000
TZNAME:GMT
DTSTART:20271031T010000
END:STANDARD
BEGIN:DAYLIGHT
TZOFFSETFROM:+0000
TZOFFSETTO:+0100
TZNAME:BST
DTSTART:20280326T010000
END:DAYLIGHT
BEGIN:STANDARD
TZOFFSETFROM:+0100
TZOFFSETTO:+0000
TZNAME:GMT
DTSTART:20281029T010000
END:STANDARD
END:VTIMEZONE
BEGIN:VEVENT
DTSTART;TZID=Europe/London:20260425T100000
DTEND;TZID=Europe/London:20260425T140000
DTSTAMP:20260421T083746
CREATED:20230512T120445Z
LAST-MODIFIED:20230512T120559Z
UID:10002227-1777111200-1777125600@www.withamhub.co.uk
SUMMARY:Youth cafe
DESCRIPTION:Join our youth division for the fortnightly drop in youth group.  The group is free to attend.
URL:https://www.withamhub.co.uk/event/youth-cafe-copy-copy-copy-copy/2026-04-25/
LOCATION:The Witham Hub\, Unit 17\, The Grove Shopping Centre\, Witham\, Essex\, CM8 2YT\, United Kingdom
CATEGORIES:Children
ATTACH;FMTTYPE=image/jpeg:https://www.withamhub.co.uk/wp-content/uploads/2020/08/Witham-Community-Hub-1.jpg
ORGANIZER;CN="The Witham Hub":MAILTO:info@withamhub.co.uk
END:VEVENT
BEGIN:VEVENT
DTSTART;TZID=Europe/London:20260509T100000
DTEND;TZID=Europe/London:20260509T140000
DTSTAMP:20260421T083746
CREATED:20230512T120445Z
LAST-MODIFIED:20230512T120559Z
UID:10002228-1778320800-1778335200@www.withamhub.co.uk
SUMMARY:Youth cafe
DESCRIPTION:Join our youth division for the fortnightly drop in youth group.  The group is free to attend.
URL:https://www.withamhub.co.uk/event/youth-cafe-copy-copy-copy-copy/2026-05-09/
LOCATION:The Witham Hub\, Unit 17\, The Grove Shopping Centre\, Witham\, Essex\, CM8 2YT\, United Kingdom
CATEGORIES:Children
ATTACH;FMTTYPE=image/jpeg:https://www.withamhub.co.uk/wp-content/uploads/2020/08/Witham-Community-Hub-1.jpg
ORGANIZER;CN="The Witham Hub":MAILTO:info@withamhub.co.uk
END:VEVENT
BEGIN:VEVENT
DTSTART;TZID=Europe/London:20260523T100000
DTEND;TZID=Europe/London:20260523T140000
DTSTAMP:20260421T083746
CREATED:20230512T120445Z
LAST-MODIFIED:20230512T120559Z
UID:10002229-1779530400-1779544800@www.withamhub.co.uk
SUMMARY:Youth cafe
DESCRIPTION:Join our youth division for the fortnightly drop in youth group.  The group is free to attend.
URL:https://www.withamhub.co.uk/event/youth-cafe-copy-copy-copy-copy/2026-05-23/
LOCATION:The Witham Hub\, Unit 17\, The Grove Shopping Centre\, Witham\, Essex\, CM8 2YT\, United Kingdom
CATEGORIES:Children
ATTACH;FMTTYPE=image/jpeg:https://www.withamhub.co.uk/wp-content/uploads/2020/08/Witham-Community-Hub-1.jpg
ORGANIZER;CN="The Witham Hub":MAILTO:info@withamhub.co.uk
END:VEVENT
BEGIN:VEVENT
DTSTART;TZID=Europe/London:20260606T100000
DTEND;TZID=Europe/London:20260606T140000
DTSTAMP:20260421T083746
CREATED:20230512T120445Z
LAST-MODIFIED:20230512T120559Z
UID:10002230-1780740000-1780754400@www.withamhub.co.uk
SUMMARY:Youth cafe
DESCRIPTION:Join our youth division for the fortnightly drop in youth group.  The group is free to attend.
URL:https://www.withamhub.co.uk/event/youth-cafe-copy-copy-copy-copy/2026-06-06/
LOCATION:The Witham Hub\, Unit 17\, The Grove Shopping Centre\, Witham\, Essex\, CM8 2YT\, United Kingdom
CATEGORIES:Children
ATTACH;FMTTYPE=image/jpeg:https://www.withamhub.co.uk/wp-content/uploads/2020/08/Witham-Community-Hub-1.jpg
ORGANIZER;CN="The Witham Hub":MAILTO:info@withamhub.co.uk
END:VEVENT
BEGIN:VEVENT
DTSTART;TZID=Europe/London:20260620T100000
DTEND;TZID=Europe/London:20260620T140000
DTSTAMP:20260421T083746
CREATED:20230512T120445Z
LAST-MODIFIED:20230512T120559Z
UID:10002231-1781949600-1781964000@www.withamhub.co.uk
SUMMARY:Youth cafe
DESCRIPTION:Join our youth division for the fortnightly drop in youth group.  The group is free to attend.
URL:https://www.withamhub.co.uk/event/youth-cafe-copy-copy-copy-copy/2026-06-20/
LOCATION:The Witham Hub\, Unit 17\, The Grove Shopping Centre\, Witham\, Essex\, CM8 2YT\, United Kingdom
CATEGORIES:Children
ATTACH;FMTTYPE=image/jpeg:https://www.withamhub.co.uk/wp-content/uploads/2020/08/Witham-Community-Hub-1.jpg
ORGANIZER;CN="The Witham Hub":MAILTO:info@withamhub.co.uk
END:VEVENT
BEGIN:VEVENT
DTSTART;TZID=Europe/London:20260704T100000
DTEND;TZID=Europe/London:20260704T140000
DTSTAMP:20260421T083746
CREATED:20230512T120445Z
LAST-MODIFIED:20230512T120559Z
UID:10002232-1783159200-1783173600@www.withamhub.co.uk
SUMMARY:Youth cafe
DESCRIPTION:Join our youth division for the fortnightly drop in youth group.  The group is free to attend.
URL:https://www.withamhub.co.uk/event/youth-cafe-copy-copy-copy-copy/2026-07-04/
LOCATION:The Witham Hub\, Unit 17\, The Grove Shopping Centre\, Witham\, Essex\, CM8 2YT\, United Kingdom
CATEGORIES:Children
ATTACH;FMTTYPE=image/jpeg:https://www.withamhub.co.uk/wp-content/uploads/2020/08/Witham-Community-Hub-1.jpg
ORGANIZER;CN="The Witham Hub":MAILTO:info@withamhub.co.uk
END:VEVENT
BEGIN:VEVENT
DTSTART;TZID=Europe/London:20260718T100000
DTEND;TZID=Europe/London:20260718T140000
DTSTAMP:20260421T083746
CREATED:20230512T120445Z
LAST-MODIFIED:20230512T120559Z
UID:10002233-1784368800-1784383200@www.withamhub.co.uk
SUMMARY:Youth cafe
DESCRIPTION:Join our youth division for the fortnightly drop in youth group.  The group is free to attend.
URL:https://www.withamhub.co.uk/event/youth-cafe-copy-copy-copy-copy/2026-07-18/
LOCATION:The Witham Hub\, Unit 17\, The Grove Shopping Centre\, Witham\, Essex\, CM8 2YT\, United Kingdom
CATEGORIES:Children
ATTACH;FMTTYPE=image/jpeg:https://www.withamhub.co.uk/wp-content/uploads/2020/08/Witham-Community-Hub-1.jpg
ORGANIZER;CN="The Witham Hub":MAILTO:info@withamhub.co.uk
END:VEVENT
BEGIN:VEVENT
DTSTART;TZID=Europe/London:20260801T100000
DTEND;TZID=Europe/London:20260801T140000
DTSTAMP:20260421T083746
CREATED:20230512T120445Z
LAST-MODIFIED:20230512T120559Z
UID:10002234-1785578400-1785592800@www.withamhub.co.uk
SUMMARY:Youth cafe
DESCRIPTION:Join our youth division for the fortnightly drop in youth group.  The group is free to attend.
URL:https://www.withamhub.co.uk/event/youth-cafe-copy-copy-copy-copy/2026-08-01/
LOCATION:The Witham Hub\, Unit 17\, The Grove Shopping Centre\, Witham\, Essex\, CM8 2YT\, United Kingdom
CATEGORIES:Children
ATTACH;FMTTYPE=image/jpeg:https://www.withamhub.co.uk/wp-content/uploads/2020/08/Witham-Community-Hub-1.jpg
ORGANIZER;CN="The Witham Hub":MAILTO:info@withamhub.co.uk
END:VEVENT
BEGIN:VEVENT
DTSTART;TZID=Europe/London:20260815T100000
DTEND;TZID=Europe/London:20260815T140000
DTSTAMP:20260421T083746
CREATED:20230512T120445Z
LAST-MODIFIED:20230512T120559Z
UID:10002235-1786788000-1786802400@www.withamhub.co.uk
SUMMARY:Youth cafe
DESCRIPTION:Join our youth division for the fortnightly drop in youth group.  The group is free to attend.
URL:https://www.withamhub.co.uk/event/youth-cafe-copy-copy-copy-copy/2026-08-15/
LOCATION:The Witham Hub\, Unit 17\, The Grove Shopping Centre\, Witham\, Essex\, CM8 2YT\, United Kingdom
CATEGORIES:Children
ATTACH;FMTTYPE=image/jpeg:https://www.withamhub.co.uk/wp-content/uploads/2020/08/Witham-Community-Hub-1.jpg
ORGANIZER;CN="The Witham Hub":MAILTO:info@withamhub.co.uk
END:VEVENT
BEGIN:VEVENT
DTSTART;TZID=Europe/London:20260829T100000
DTEND;TZID=Europe/London:20260829T140000
DTSTAMP:20260421T083746
CREATED:20230512T120445Z
LAST-MODIFIED:20230512T120559Z
UID:10002236-1787997600-1788012000@www.withamhub.co.uk
SUMMARY:Youth cafe
DESCRIPTION:Join our youth division for the fortnightly drop in youth group.  The group is free to attend.
URL:https://www.withamhub.co.uk/event/youth-cafe-copy-copy-copy-copy/2026-08-29/
LOCATION:The Witham Hub\, Unit 17\, The Grove Shopping Centre\, Witham\, Essex\, CM8 2YT\, United Kingdom
CATEGORIES:Children
ATTACH;FMTTYPE=image/jpeg:https://www.withamhub.co.uk/wp-content/uploads/2020/08/Witham-Community-Hub-1.jpg
ORGANIZER;CN="The Witham Hub":MAILTO:info@withamhub.co.uk
END:VEVENT
BEGIN:VEVENT
DTSTART;TZID=Europe/London:20260912T100000
DTEND;TZID=Europe/London:20260912T140000
DTSTAMP:20260421T083746
CREATED:20230512T120445Z
LAST-MODIFIED:20230512T120559Z
UID:10002237-1789207200-1789221600@www.withamhub.co.uk
SUMMARY:Youth cafe
DESCRIPTION:Join our youth division for the fortnightly drop in youth group.  The group is free to attend.
URL:https://www.withamhub.co.uk/event/youth-cafe-copy-copy-copy-copy/2026-09-12/
LOCATION:The Witham Hub\, Unit 17\, The Grove Shopping Centre\, Witham\, Essex\, CM8 2YT\, United Kingdom
CATEGORIES:Children
ATTACH;FMTTYPE=image/jpeg:https://www.withamhub.co.uk/wp-content/uploads/2020/08/Witham-Community-Hub-1.jpg
ORGANIZER;CN="The Witham Hub":MAILTO:info@withamhub.co.uk
END:VEVENT
BEGIN:VEVENT
DTSTART;TZID=Europe/London:20260926T100000
DTEND;TZID=Europe/London:20260926T140000
DTSTAMP:20260421T083746
CREATED:20230512T120445Z
LAST-MODIFIED:20230512T120559Z
UID:10002238-1790416800-1790431200@www.withamhub.co.uk
SUMMARY:Youth cafe
DESCRIPTION:Join our youth division for the fortnightly drop in youth group.  The group is free to attend.
URL:https://www.withamhub.co.uk/event/youth-cafe-copy-copy-copy-copy/2026-09-26/
LOCATION:The Witham Hub\, Unit 17\, The Grove Shopping Centre\, Witham\, Essex\, CM8 2YT\, United Kingdom
CATEGORIES:Children
ATTACH;FMTTYPE=image/jpeg:https://www.withamhub.co.uk/wp-content/uploads/2020/08/Witham-Community-Hub-1.jpg
ORGANIZER;CN="The Witham Hub":MAILTO:info@withamhub.co.uk
END:VEVENT
BEGIN:VEVENT
DTSTART;TZID=Europe/London:20261010T100000
DTEND;TZID=Europe/London:20261010T140000
DTSTAMP:20260421T083746
CREATED:20230512T120445Z
LAST-MODIFIED:20230512T120559Z
UID:10002239-1791626400-1791640800@www.withamhub.co.uk
SUMMARY:Youth cafe
DESCRIPTION:Join our youth division for the fortnightly drop in youth group.  The group is free to attend.
URL:https://www.withamhub.co.uk/event/youth-cafe-copy-copy-copy-copy/2026-10-10/
LOCATION:The Witham Hub\, Unit 17\, The Grove Shopping Centre\, Witham\, Essex\, CM8 2YT\, United Kingdom
CATEGORIES:Children
ATTACH;FMTTYPE=image/jpeg:https://www.withamhub.co.uk/wp-content/uploads/2020/08/Witham-Community-Hub-1.jpg
ORGANIZER;CN="The Witham Hub":MAILTO:info@withamhub.co.uk
END:VEVENT
BEGIN:VEVENT
DTSTART;TZID=Europe/London:20261024T100000
DTEND;TZID=Europe/London:20261024T140000
DTSTAMP:20260421T083746
CREATED:20230512T120445Z
LAST-MODIFIED:20230512T120559Z
UID:10002240-1792836000-1792850400@www.withamhub.co.uk
SUMMARY:Youth cafe
DESCRIPTION:Join our youth division for the fortnightly drop in youth group.  The group is free to attend.
URL:https://www.withamhub.co.uk/event/youth-cafe-copy-copy-copy-copy/2026-10-24/
LOCATION:The Witham Hub\, Unit 17\, The Grove Shopping Centre\, Witham\, Essex\, CM8 2YT\, United Kingdom
CATEGORIES:Children
ATTACH;FMTTYPE=image/jpeg:https://www.withamhub.co.uk/wp-content/uploads/2020/08/Witham-Community-Hub-1.jpg
ORGANIZER;CN="The Witham Hub":MAILTO:info@withamhub.co.uk
END:VEVENT
BEGIN:VEVENT
DTSTART;TZID=Europe/London:20261107T100000
DTEND;TZID=Europe/London:20261107T140000
DTSTAMP:20260421T083746
CREATED:20230512T120445Z
LAST-MODIFIED:20230512T120559Z
UID:10002241-1794045600-1794060000@www.withamhub.co.uk
SUMMARY:Youth cafe
DESCRIPTION:Join our youth division for the fortnightly drop in youth group.  The group is free to attend.
URL:https://www.withamhub.co.uk/event/youth-cafe-copy-copy-copy-copy/2026-11-07/
LOCATION:The Witham Hub\, Unit 17\, The Grove Shopping Centre\, Witham\, Essex\, CM8 2YT\, United Kingdom
CATEGORIES:Children
ATTACH;FMTTYPE=image/jpeg:https://www.withamhub.co.uk/wp-content/uploads/2020/08/Witham-Community-Hub-1.jpg
ORGANIZER;CN="The Witham Hub":MAILTO:info@withamhub.co.uk
END:VEVENT
BEGIN:VEVENT
DTSTART;TZID=Europe/London:20261121T100000
DTEND;TZID=Europe/London:20261121T140000
DTSTAMP:20260421T083746
CREATED:20230512T120445Z
LAST-MODIFIED:20230512T120559Z
UID:10002242-1795255200-1795269600@www.withamhub.co.uk
SUMMARY:Youth cafe
DESCRIPTION:Join our youth division for the fortnightly drop in youth group.  The group is free to attend.
URL:https://www.withamhub.co.uk/event/youth-cafe-copy-copy-copy-copy/2026-11-21/
LOCATION:The Witham Hub\, Unit 17\, The Grove Shopping Centre\, Witham\, Essex\, CM8 2YT\, United Kingdom
CATEGORIES:Children
ATTACH;FMTTYPE=image/jpeg:https://www.withamhub.co.uk/wp-content/uploads/2020/08/Witham-Community-Hub-1.jpg
ORGANIZER;CN="The Witham Hub":MAILTO:info@withamhub.co.uk
END:VEVENT
BEGIN:VEVENT
DTSTART;TZID=Europe/London:20261205T100000
DTEND;TZID=Europe/London:20261205T140000
DTSTAMP:20260421T083746
CREATED:20230512T120445Z
LAST-MODIFIED:20230512T120559Z
UID:10002243-1796464800-1796479200@www.withamhub.co.uk
SUMMARY:Youth cafe
DESCRIPTION:Join our youth division for the fortnightly drop in youth group.  The group is free to attend.
URL:https://www.withamhub.co.uk/event/youth-cafe-copy-copy-copy-copy/2026-12-05/
LOCATION:The Witham Hub\, Unit 17\, The Grove Shopping Centre\, Witham\, Essex\, CM8 2YT\, United Kingdom
CATEGORIES:Children
ATTACH;FMTTYPE=image/jpeg:https://www.withamhub.co.uk/wp-content/uploads/2020/08/Witham-Community-Hub-1.jpg
ORGANIZER;CN="The Witham Hub":MAILTO:info@withamhub.co.uk
END:VEVENT
BEGIN:VEVENT
DTSTART;TZID=Europe/London:20261219T100000
DTEND;TZID=Europe/London:20261219T140000
DTSTAMP:20260421T083746
CREATED:20230512T120445Z
LAST-MODIFIED:20230512T120559Z
UID:10002244-1797674400-1797688800@www.withamhub.co.uk
SUMMARY:Youth cafe
DESCRIPTION:Join our youth division for the fortnightly drop in youth group.  The group is free to attend.
URL:https://www.withamhub.co.uk/event/youth-cafe-copy-copy-copy-copy/2026-12-19/
LOCATION:The Witham Hub\, Unit 17\, The Grove Shopping Centre\, Witham\, Essex\, CM8 2YT\, United Kingdom
CATEGORIES:Children
ATTACH;FMTTYPE=image/jpeg:https://www.withamhub.co.uk/wp-content/uploads/2020/08/Witham-Community-Hub-1.jpg
ORGANIZER;CN="The Witham Hub":MAILTO:info@withamhub.co.uk
END:VEVENT
BEGIN:VEVENT
DTSTART;TZID=Europe/London:20270102T100000
DTEND;TZID=Europe/London:20270102T140000
DTSTAMP:20260421T083746
CREATED:20230512T120445Z
LAST-MODIFIED:20230512T120559Z
UID:10002245-1798884000-1798898400@www.withamhub.co.uk
SUMMARY:Youth cafe
DESCRIPTION:Join our youth division for the fortnightly drop in youth group.  The group is free to attend.
URL:https://www.withamhub.co.uk/event/youth-cafe-copy-copy-copy-copy/2027-01-02/
LOCATION:The Witham Hub\, Unit 17\, The Grove Shopping Centre\, Witham\, Essex\, CM8 2YT\, United Kingdom
CATEGORIES:Children
ATTACH;FMTTYPE=image/jpeg:https://www.withamhub.co.uk/wp-content/uploads/2020/08/Witham-Community-Hub-1.jpg
ORGANIZER;CN="The Witham Hub":MAILTO:info@withamhub.co.uk
END:VEVENT
BEGIN:VEVENT
DTSTART;TZID=Europe/London:20270116T100000
DTEND;TZID=Europe/London:20270116T140000
DTSTAMP:20260421T083746
CREATED:20230512T120445Z
LAST-MODIFIED:20230512T120559Z
UID:10002246-1800093600-1800108000@www.withamhub.co.uk
SUMMARY:Youth cafe
DESCRIPTION:Join our youth division for the fortnightly drop in youth group.  The group is free to attend.
URL:https://www.withamhub.co.uk/event/youth-cafe-copy-copy-copy-copy/2027-01-16/
LOCATION:The Witham Hub\, Unit 17\, The Grove Shopping Centre\, Witham\, Essex\, CM8 2YT\, United Kingdom
CATEGORIES:Children
ATTACH;FMTTYPE=image/jpeg:https://www.withamhub.co.uk/wp-content/uploads/2020/08/Witham-Community-Hub-1.jpg
ORGANIZER;CN="The Witham Hub":MAILTO:info@withamhub.co.uk
END:VEVENT
BEGIN:VEVENT
DTSTART;TZID=Europe/London:20270130T100000
DTEND;TZID=Europe/London:20270130T140000
DTSTAMP:20260421T083746
CREATED:20230512T120445Z
LAST-MODIFIED:20230512T120559Z
UID:10002247-1801303200-1801317600@www.withamhub.co.uk
SUMMARY:Youth cafe
DESCRIPTION:Join our youth division for the fortnightly drop in youth group.  The group is free to attend.
URL:https://www.withamhub.co.uk/event/youth-cafe-copy-copy-copy-copy/2027-01-30/
LOCATION:The Witham Hub\, Unit 17\, The Grove Shopping Centre\, Witham\, Essex\, CM8 2YT\, United Kingdom
CATEGORIES:Children
ATTACH;FMTTYPE=image/jpeg:https://www.withamhub.co.uk/wp-content/uploads/2020/08/Witham-Community-Hub-1.jpg
ORGANIZER;CN="The Witham Hub":MAILTO:info@withamhub.co.uk
END:VEVENT
BEGIN:VEVENT
DTSTART;TZID=Europe/London:20270213T100000
DTEND;TZID=Europe/London:20270213T140000
DTSTAMP:20260421T083746
CREATED:20230512T120445Z
LAST-MODIFIED:20230512T120559Z
UID:10002248-1802512800-1802527200@www.withamhub.co.uk
SUMMARY:Youth cafe
DESCRIPTION:Join our youth division for the fortnightly drop in youth group.  The group is free to attend.
URL:https://www.withamhub.co.uk/event/youth-cafe-copy-copy-copy-copy/2027-02-13/
LOCATION:The Witham Hub\, Unit 17\, The Grove Shopping Centre\, Witham\, Essex\, CM8 2YT\, United Kingdom
CATEGORIES:Children
ATTACH;FMTTYPE=image/jpeg:https://www.withamhub.co.uk/wp-content/uploads/2020/08/Witham-Community-Hub-1.jpg
ORGANIZER;CN="The Witham Hub":MAILTO:info@withamhub.co.uk
END:VEVENT
BEGIN:VEVENT
DTSTART;TZID=Europe/London:20270227T100000
DTEND;TZID=Europe/London:20270227T140000
DTSTAMP:20260421T083746
CREATED:20230512T120445Z
LAST-MODIFIED:20230512T120559Z
UID:10002249-1803722400-1803736800@www.withamhub.co.uk
SUMMARY:Youth cafe
DESCRIPTION:Join our youth division for the fortnightly drop in youth group.  The group is free to attend.
URL:https://www.withamhub.co.uk/event/youth-cafe-copy-copy-copy-copy/2027-02-27/
LOCATION:The Witham Hub\, Unit 17\, The Grove Shopping Centre\, Witham\, Essex\, CM8 2YT\, United Kingdom
CATEGORIES:Children
ATTACH;FMTTYPE=image/jpeg:https://www.withamhub.co.uk/wp-content/uploads/2020/08/Witham-Community-Hub-1.jpg
ORGANIZER;CN="The Witham Hub":MAILTO:info@withamhub.co.uk
END:VEVENT
BEGIN:VEVENT
DTSTART;TZID=Europe/London:20270313T100000
DTEND;TZID=Europe/London:20270313T140000
DTSTAMP:20260421T083746
CREATED:20230512T120445Z
LAST-MODIFIED:20230512T120559Z
UID:10002250-1804932000-1804946400@www.withamhub.co.uk
SUMMARY:Youth cafe
DESCRIPTION:Join our youth division for the fortnightly drop in youth group.  The group is free to attend.
URL:https://www.withamhub.co.uk/event/youth-cafe-copy-copy-copy-copy/2027-03-13/
LOCATION:The Witham Hub\, Unit 17\, The Grove Shopping Centre\, Witham\, Essex\, CM8 2YT\, United Kingdom
CATEGORIES:Children
ATTACH;FMTTYPE=image/jpeg:https://www.withamhub.co.uk/wp-content/uploads/2020/08/Witham-Community-Hub-1.jpg
ORGANIZER;CN="The Witham Hub":MAILTO:info@withamhub.co.uk
END:VEVENT
BEGIN:VEVENT
DTSTART;TZID=Europe/London:20270327T100000
DTEND;TZID=Europe/London:20270327T140000
DTSTAMP:20260421T083746
CREATED:20230512T120445Z
LAST-MODIFIED:20230512T120559Z
UID:10002251-1806141600-1806156000@www.withamhub.co.uk
SUMMARY:Youth cafe
DESCRIPTION:Join our youth division for the fortnightly drop in youth group.  The group is free to attend.
URL:https://www.withamhub.co.uk/event/youth-cafe-copy-copy-copy-copy/2027-03-27/
LOCATION:The Witham Hub\, Unit 17\, The Grove Shopping Centre\, Witham\, Essex\, CM8 2YT\, United Kingdom
CATEGORIES:Children
ATTACH;FMTTYPE=image/jpeg:https://www.withamhub.co.uk/wp-content/uploads/2020/08/Witham-Community-Hub-1.jpg
ORGANIZER;CN="The Witham Hub":MAILTO:info@withamhub.co.uk
END:VEVENT
BEGIN:VEVENT
DTSTART;TZID=Europe/London:20270410T100000
DTEND;TZID=Europe/London:20270410T140000
DTSTAMP:20260421T083746
CREATED:20230512T120445Z
LAST-MODIFIED:20230512T120559Z
UID:10002252-1807351200-1807365600@www.withamhub.co.uk
SUMMARY:Youth cafe
DESCRIPTION:Join our youth division for the fortnightly drop in youth group.  The group is free to attend.
URL:https://www.withamhub.co.uk/event/youth-cafe-copy-copy-copy-copy/2027-04-10/
LOCATION:The Witham Hub\, Unit 17\, The Grove Shopping Centre\, Witham\, Essex\, CM8 2YT\, United Kingdom
CATEGORIES:Children
ATTACH;FMTTYPE=image/jpeg:https://www.withamhub.co.uk/wp-content/uploads/2020/08/Witham-Community-Hub-1.jpg
ORGANIZER;CN="The Witham Hub":MAILTO:info@withamhub.co.uk
END:VEVENT
BEGIN:VEVENT
DTSTART;TZID=Europe/London:20270424T100000
DTEND;TZID=Europe/London:20270424T140000
DTSTAMP:20260421T083746
CREATED:20230512T120445Z
LAST-MODIFIED:20230512T120559Z
UID:10002253-1808560800-1808575200@www.withamhub.co.uk
SUMMARY:Youth cafe
DESCRIPTION:Join our youth division for the fortnightly drop in youth group.  The group is free to attend.
URL:https://www.withamhub.co.uk/event/youth-cafe-copy-copy-copy-copy/2027-04-24/
LOCATION:The Witham Hub\, Unit 17\, The Grove Shopping Centre\, Witham\, Essex\, CM8 2YT\, United Kingdom
CATEGORIES:Children
ATTACH;FMTTYPE=image/jpeg:https://www.withamhub.co.uk/wp-content/uploads/2020/08/Witham-Community-Hub-1.jpg
ORGANIZER;CN="The Witham Hub":MAILTO:info@withamhub.co.uk
END:VEVENT
BEGIN:VEVENT
DTSTART;TZID=Europe/London:20270508T100000
DTEND;TZID=Europe/London:20270508T140000
DTSTAMP:20260421T083746
CREATED:20230512T120445Z
LAST-MODIFIED:20230512T120559Z
UID:10002254-1809770400-1809784800@www.withamhub.co.uk
SUMMARY:Youth cafe
DESCRIPTION:Join our youth division for the fortnightly drop in youth group.  The group is free to attend.
URL:https://www.withamhub.co.uk/event/youth-cafe-copy-copy-copy-copy/2027-05-08/
LOCATION:The Witham Hub\, Unit 17\, The Grove Shopping Centre\, Witham\, Essex\, CM8 2YT\, United Kingdom
CATEGORIES:Children
ATTACH;FMTTYPE=image/jpeg:https://www.withamhub.co.uk/wp-content/uploads/2020/08/Witham-Community-Hub-1.jpg
ORGANIZER;CN="The Witham Hub":MAILTO:info@withamhub.co.uk
END:VEVENT
BEGIN:VEVENT
DTSTART;TZID=Europe/London:20270522T100000
DTEND;TZID=Europe/London:20270522T140000
DTSTAMP:20260421T083746
CREATED:20230512T120445Z
LAST-MODIFIED:20230512T120559Z
UID:10002255-1810980000-1810994400@www.withamhub.co.uk
SUMMARY:Youth cafe
DESCRIPTION:Join our youth division for the fortnightly drop in youth group.  The group is free to attend.
URL:https://www.withamhub.co.uk/event/youth-cafe-copy-copy-copy-copy/2027-05-22/
LOCATION:The Witham Hub\, Unit 17\, The Grove Shopping Centre\, Witham\, Essex\, CM8 2YT\, United Kingdom
CATEGORIES:Children
ATTACH;FMTTYPE=image/jpeg:https://www.withamhub.co.uk/wp-content/uploads/2020/08/Witham-Community-Hub-1.jpg
ORGANIZER;CN="The Witham Hub":MAILTO:info@withamhub.co.uk
END:VEVENT
BEGIN:VEVENT
DTSTART;TZID=Europe/London:20270605T100000
DTEND;TZID=Europe/London:20270605T140000
DTSTAMP:20260421T083746
CREATED:20230512T120445Z
LAST-MODIFIED:20230512T120559Z
UID:10002256-1812189600-1812204000@www.withamhub.co.uk
SUMMARY:Youth cafe
DESCRIPTION:Join our youth division for the fortnightly drop in youth group.  The group is free to attend.
URL:https://www.withamhub.co.uk/event/youth-cafe-copy-copy-copy-copy/2027-06-05/
LOCATION:The Witham Hub\, Unit 17\, The Grove Shopping Centre\, Witham\, Essex\, CM8 2YT\, United Kingdom
CATEGORIES:Children
ATTACH;FMTTYPE=image/jpeg:https://www.withamhub.co.uk/wp-content/uploads/2020/08/Witham-Community-Hub-1.jpg
ORGANIZER;CN="The Witham Hub":MAILTO:info@withamhub.co.uk
END:VEVENT
END:VCALENDAR